BEGIN:VCALENDAR
VERSION:2.0
PRODID:-//Fee Brembeck - ECPv6.15.20//NONSGML v1.0//EN
CALSCALE:GREGORIAN
METHOD:PUBLISH
X-ORIGINAL-URL:https://fee-brembeck.de
X-WR-CALDESC:Veranstaltungen für Fee Brembeck
REFRESH-INTERVAL;VALUE=DURATION:PT1H
X-Robots-Tag:noindex
X-PUBLISHED-TTL:PT1H
BEGIN:VTIMEZONE
TZID:Europe/Berlin
BEGIN:DAYLIGHT
TZOFFSETFROM:+0100
TZOFFSETTO:+0200
TZNAME:CEST
DTSTART:20250330T010000
END:DAYLIGHT
BEGIN:STANDARD
TZOFFSETFROM:+0200
TZOFFSETTO:+0100
TZNAME:CET
DTSTART:20251026T010000
END:STANDARD
BEGIN:DAYLIGHT
TZOFFSETFROM:+0100
TZOFFSETTO:+0200
TZNAME:CEST
DTSTART:20260329T010000
END:DAYLIGHT
BEGIN:STANDARD
TZOFFSETFROM:+0200
TZOFFSETTO:+0100
TZNAME:CET
DTSTART:20261025T010000
END:STANDARD
BEGIN:DAYLIGHT
TZOFFSETFROM:+0100
TZOFFSETTO:+0200
TZNAME:CEST
DTSTART:20270328T010000
END:DAYLIGHT
BEGIN:STANDARD
TZOFFSETFROM:+0200
TZOFFSETTO:+0100
TZNAME:CET
DTSTART:20271031T010000
END:STANDARD
BEGIN:DAYLIGHT
TZOFFSETFROM:+0100
TZOFFSETTO:+0200
TZNAME:CEST
DTSTART:20280326T010000
END:DAYLIGHT
BEGIN:STANDARD
TZOFFSETFROM:+0200
TZOFFSETTO:+0100
TZNAME:CET
DTSTART:20281029T010000
END:STANDARD
END:VTIMEZONE
BEGIN:VEVENT
DTSTART;TZID=Europe/Berlin:20260711T163000
DTEND;TZID=Europe/Berlin:20260711T183000
DTSTAMP:20260421T101810
CREATED:20260420T210113Z
LAST-MODIFIED:20260420T210113Z
UID:20932-1783787400-1783794600@fee-brembeck.de
SUMMARY:Kleines Fest 2026
DESCRIPTION:
URL:https://fee-brembeck.de/event/kleines-fest-2026-11-07-2026/
LOCATION:Großer Garten Herrenhausen\, Herrenhäuser Straße 3 A\, Hannover\, 30419
CATEGORIES:Automatisch aktualisiert
END:VEVENT
BEGIN:VEVENT
DTSTART;TZID=Europe/Berlin:20260712T163000
DTEND;TZID=Europe/Berlin:20260712T183000
DTSTAMP:20260421T101810
CREATED:20260420T210114Z
LAST-MODIFIED:20260420T210114Z
UID:20933-1783873800-1783881000@fee-brembeck.de
SUMMARY:Kleines Fest 2026
DESCRIPTION:
URL:https://fee-brembeck.de/event/kleines-fest-2026-12-07-2026/
LOCATION:Großer Garten Herrenhausen\, Herrenhäuser Straße 3 A\, Hannover\, 30419
CATEGORIES:Automatisch aktualisiert
END:VEVENT
BEGIN:VEVENT
DTSTART;TZID=Europe/Berlin:20260714T163000
DTEND;TZID=Europe/Berlin:20260714T183000
DTSTAMP:20260421T101810
CREATED:20260420T210114Z
LAST-MODIFIED:20260420T210114Z
UID:20934-1784046600-1784053800@fee-brembeck.de
SUMMARY:Kleines Fest 2026
DESCRIPTION:
URL:https://fee-brembeck.de/event/kleines-fest-2026-14-07-2026/
LOCATION:Großer Garten Herrenhausen\, Herrenhäuser Straße 3 A\, Hannover\, 30419
CATEGORIES:Automatisch aktualisiert
END:VEVENT
BEGIN:VEVENT
DTSTART;TZID=Europe/Berlin:20260715T163000
DTEND;TZID=Europe/Berlin:20260715T183000
DTSTAMP:20260421T101810
CREATED:20260420T210114Z
LAST-MODIFIED:20260420T210114Z
UID:20935-1784133000-1784140200@fee-brembeck.de
SUMMARY:Kleines Fest 2026
DESCRIPTION:
URL:https://fee-brembeck.de/event/kleines-fest-2026-15-07-2026/
LOCATION:Großer Garten Herrenhausen\, Herrenhäuser Straße 3 A\, Hannover\, 30419
CATEGORIES:Automatisch aktualisiert
END:VEVENT
BEGIN:VEVENT
DTSTART;TZID=Europe/Berlin:20260716T163000
DTEND;TZID=Europe/Berlin:20260716T183000
DTSTAMP:20260421T101810
CREATED:20260420T210114Z
LAST-MODIFIED:20260420T210114Z
UID:20936-1784219400-1784226600@fee-brembeck.de
SUMMARY:Kleines Fest 2026
DESCRIPTION:
URL:https://fee-brembeck.de/event/kleines-fest-2026-16-07-2026/
LOCATION:Großer Garten Herrenhausen\, Herrenhäuser Straße 3 A\, Hannover\, 30419
CATEGORIES:Automatisch aktualisiert
END:VEVENT
BEGIN:VEVENT
DTSTART;TZID=Europe/Berlin:20261001T200000
DTEND;TZID=Europe/Berlin:20261001T220000
DTSTAMP:20260421T101810
CREATED:20260420T210112Z
LAST-MODIFIED:20260420T210112Z
UID:20907-1790884800-1790892000@fee-brembeck.de
SUMMARY:Komm du erst mal aus meinem Alter!
DESCRIPTION:
URL:https://fee-brembeck.de/event/komm-du-erst-mal-aus-meinem-alter-01-10-2026/
LOCATION:Daunstärs\, Konrad-Adenauer-Straße 15\, Langenhagen\, 30834
CATEGORIES:Automatisch aktualisiert
END:VEVENT
BEGIN:VEVENT
DTSTART;TZID=Europe/Berlin:20261002T193000
DTEND;TZID=Europe/Berlin:20261002T213000
DTSTAMP:20260421T101810
CREATED:20260420T210112Z
LAST-MODIFIED:20260420T210112Z
UID:20913-1790969400-1790976600@fee-brembeck.de
SUMMARY:Komm du erst mal aus meinem Alter!
DESCRIPTION:
URL:https://fee-brembeck.de/event/komm-du-erst-mal-aus-meinem-alter-02-10-2026/
LOCATION:Stadtbücherei\, Marktstraße 18\, Hofgeismar\, 34369
CATEGORIES:Automatisch aktualisiert
END:VEVENT
BEGIN:VEVENT
DTSTART;TZID=Europe/Berlin:20261010T200000
DTEND;TZID=Europe/Berlin:20261010T220000
DTSTAMP:20260421T101810
CREATED:20260420T210112Z
LAST-MODIFIED:20260420T210112Z
UID:20911-1791662400-1791669600@fee-brembeck.de
SUMMARY:Erklär´s mir\, als wäre ich eine Frau
DESCRIPTION:Tickets bald erhältlich
URL:https://fee-brembeck.de/event/erklaers-mir-als-waere-ich-eine-frau-10-10-2026/
LOCATION:APEX\, Burgstraße 46\, Göttingen\, 37073
CATEGORIES:Automatisch aktualisiert
END:VEVENT
BEGIN:VEVENT
DTSTART;TZID=Europe/Berlin:20261016T193000
DTEND;TZID=Europe/Berlin:20261016T213000
DTSTAMP:20260421T101810
CREATED:20260420T210112Z
LAST-MODIFIED:20260420T210112Z
UID:20912-1792179000-1792186200@fee-brembeck.de
SUMMARY:Komm du erst mal aus meinem Alter!
DESCRIPTION:Tickets bald erhältlich
URL:https://fee-brembeck.de/event/komm-du-erst-mal-aus-meinem-alter-16-10-2026/
LOCATION:Okerhalle\, Hauptstraße 20a\, Schwülper\, 38179\, Deutschland
CATEGORIES:Automatisch aktualisiert
END:VEVENT
BEGIN:VEVENT
DTSTART;TZID=Europe/Berlin:20261023T200000
DTEND;TZID=Europe/Berlin:20261023T220000
DTSTAMP:20260421T101810
CREATED:20260420T210113Z
LAST-MODIFIED:20260420T210113Z
UID:20919-1792785600-1792792800@fee-brembeck.de
SUMMARY:Komm du erst mal aus meinem Alter!
DESCRIPTION:Tickets bald erhältlich
URL:https://fee-brembeck.de/event/komm-du-erst-mal-aus-meinem-alter-23-10-2026/
LOCATION:Fat Cat\, Kellerstraße 8a\, München\, 81667
CATEGORIES:Automatisch aktualisiert
END:VEVENT
BEGIN:VEVENT
DTSTART;TZID=Europe/Berlin:20261025T193000
DTEND;TZID=Europe/Berlin:20261025T213000
DTSTAMP:20260421T101810
CREATED:20260420T210112Z
LAST-MODIFIED:20260420T210112Z
UID:20914-1792956600-1792963800@fee-brembeck.de
SUMMARY:Komm du erst mal aus meinem Alter!
DESCRIPTION:verlegt vom 22.10.26
URL:https://fee-brembeck.de/event/komm-du-erst-mal-aus-meinem-alter-25-10-2026/
LOCATION:Kulturhaus Osterfeld\, Studio\, Osterfeldstraße 12\, Pforzheim\, 75172
CATEGORIES:Automatisch aktualisiert
END:VEVENT
BEGIN:VEVENT
DTSTART;TZID=Europe/Berlin:20261105T200000
DTEND;TZID=Europe/Berlin:20261105T220000
DTSTAMP:20260421T101810
CREATED:20260420T210112Z
LAST-MODIFIED:20260420T210112Z
UID:20905-1793908800-1793916000@fee-brembeck.de
SUMMARY:Komm du erst mal aus meinem Alter!
DESCRIPTION:
URL:https://fee-brembeck.de/event/komm-du-erst-mal-aus-meinem-alter-05-11-2026/
LOCATION:Schatzkistl\, Augartenstraße 84-86\, Mannheim\, 68165
CATEGORIES:Automatisch aktualisiert
END:VEVENT
BEGIN:VEVENT
DTSTART;TZID=Europe/Berlin:20261106T193000
DTEND;TZID=Europe/Berlin:20261106T213000
DTSTAMP:20260421T101810
CREATED:20260420T210112Z
LAST-MODIFIED:20260420T210112Z
UID:20904-1793993400-1794000600@fee-brembeck.de
SUMMARY:Komm du erst mal aus meinem Alter!
DESCRIPTION:
URL:https://fee-brembeck.de/event/komm-du-erst-mal-aus-meinem-alter-06-11-2026/
LOCATION:Theater im Pariser Hof\, Spiegelgasse 9\, Wiesbaden\, 65183
CATEGORIES:Automatisch aktualisiert
END:VEVENT
BEGIN:VEVENT
DTSTART;TZID=Europe/Berlin:20261114T200000
DTEND;TZID=Europe/Berlin:20261114T220000
DTSTAMP:20260421T101810
CREATED:20260420T210112Z
LAST-MODIFIED:20260420T210112Z
UID:20916-1794686400-1794693600@fee-brembeck.de
SUMMARY:Komm du erst mal aus meinem Alter!
DESCRIPTION:
URL:https://fee-brembeck.de/event/komm-du-erst-mal-aus-meinem-alter-14-11-2026/
LOCATION:Schafhof\, Korbacherstraße 15\, Wiesentheid\, 97353\, Deutschland
CATEGORIES:Automatisch aktualisiert
END:VEVENT
BEGIN:VEVENT
DTSTART;TZID=Europe/Berlin:20261123T193000
DTEND;TZID=Europe/Berlin:20261123T213000
DTSTAMP:20260421T101810
CREATED:20260420T210112Z
LAST-MODIFIED:20260420T210112Z
UID:20908-1795462200-1795469400@fee-brembeck.de
SUMMARY:Komm du erst mal aus meinem Alter!
DESCRIPTION:
URL:https://fee-brembeck.de/event/komm-du-erst-mal-aus-meinem-alter-23-11-2026/
LOCATION:Die Herkuleskeule\, Schloßstraße 2\, Dresden\, 01067
CATEGORIES:Automatisch aktualisiert
END:VEVENT
BEGIN:VEVENT
DTSTART;TZID=Europe/Berlin:20261127T200000
DTEND;TZID=Europe/Berlin:20261127T220000
DTSTAMP:20260421T101810
CREATED:20260420T210113Z
LAST-MODIFIED:20260420T210113Z
UID:20923-1795809600-1795816800@fee-brembeck.de
SUMMARY:Premiere: How to Frau – Das Tutorial\, nach dem niemand gefragt hat
DESCRIPTION:
URL:https://fee-brembeck.de/event/premiere-how-to-frau-das-tutorial-nach-dem-niemand-gefragt-hat-27-11-2026/
LOCATION:Atelier Theater\, Roonstraße 78\, Köln\, 50674
CATEGORIES:Automatisch aktualisiert
END:VEVENT
BEGIN:VEVENT
DTSTART;TZID=Europe/Berlin:20261204T200000
DTEND;TZID=Europe/Berlin:20261204T220000
DTSTAMP:20260421T101810
CREATED:20260420T210112Z
LAST-MODIFIED:20260420T210112Z
UID:20906-1796414400-1796421600@fee-brembeck.de
SUMMARY:Komm du erst mal aus meinem Alter!
DESCRIPTION:
URL:https://fee-brembeck.de/event/komm-du-erst-mal-aus-meinem-alter-04-12-2026/
LOCATION:Jugend- und Kulturzentrum „Zweite Heimat“\, Hermann-Geisen-Str. 40 – 42\, Höhr-Grenzhausen\, 56203
CATEGORIES:Automatisch aktualisiert
END:VEVENT
BEGIN:VEVENT
DTSTART;TZID=Europe/Berlin:20261206T180000
DTEND;TZID=Europe/Berlin:20261206T200000
DTSTAMP:20260421T101810
CREATED:20260420T210113Z
LAST-MODIFIED:20260420T210113Z
UID:20922-1796580000-1796587200@fee-brembeck.de
SUMMARY:How to Frau – Das Tutorial\, nach dem niemand gefragt hat
DESCRIPTION:
URL:https://fee-brembeck.de/event/how-to-frau-das-tutorial-nach-dem-niemand-gefragt-hat-06-12-2026/
LOCATION:Leos Bühne mit Biss …\, Udenheimer Straße 3\, Philippsburg\, 76661
CATEGORIES:Automatisch aktualisiert
END:VEVENT
BEGIN:VEVENT
DTSTART;TZID=Europe/Berlin:20270204T200000
DTEND;TZID=Europe/Berlin:20270204T220000
DTSTAMP:20260421T101810
CREATED:20260420T210114Z
LAST-MODIFIED:20260420T210114Z
UID:20937-1801771200-1801778400@fee-brembeck.de
SUMMARY:How to Frau – Das Tutorial\, nach dem niemand gefragt hat
DESCRIPTION:
URL:https://fee-brembeck.de/event/how-to-frau-das-tutorial-nach-dem-niemand-gefragt-hat-04-02-2027/
LOCATION:Hallenbad\, Schachtweg 31\, Wolfsburg\, 38440
CATEGORIES:Automatisch aktualisiert
END:VEVENT
BEGIN:VEVENT
DTSTART;TZID=Europe/Berlin:20270306T200000
DTEND;TZID=Europe/Berlin:20270306T220000
DTSTAMP:20260421T101810
CREATED:20260420T210113Z
LAST-MODIFIED:20260420T210113Z
UID:20920-1804363200-1804370400@fee-brembeck.de
SUMMARY:How to Frau – Das Tutorial\, nach dem niemand gefragt hat
DESCRIPTION:Tickets bald erhältlich
URL:https://fee-brembeck.de/event/how-to-frau-das-tutorial-nach-dem-niemand-gefragt-hat-06-03-2027/
LOCATION:KOMM\, August-Klotz-Str. 21\, Düren\, 52349
CATEGORIES:Automatisch aktualisiert
END:VEVENT
BEGIN:VEVENT
DTSTART;TZID=Europe/Berlin:20271007T200000
DTEND;TZID=Europe/Berlin:20271007T220000
DTSTAMP:20260421T101810
CREATED:20260420T210113Z
LAST-MODIFIED:20260420T210113Z
UID:20921-1822939200-1822946400@fee-brembeck.de
SUMMARY:How to Frau – Das Tutorial\, nach dem niemand gefragt hat
DESCRIPTION:
URL:https://fee-brembeck.de/event/how-to-frau-das-tutorial-nach-dem-niemand-gefragt-hat-07-10-2027/
LOCATION:Talbahnhof\, Raiffeisenplatz 1-3\, Eschweiler\, 52249
CATEGORIES:Automatisch aktualisiert
END:VEVENT
END:VCALENDAR